BEGIN:VCALENDAR
VERSION:2.0
PRODID:-//FRIEDENSDORF INTERNATIONAL - ECPv6.15.20//NONSGML v1.0//EN
CALSCALE:GREGORIAN
METHOD:PUBLISH
X-WR-CALNAME:FRIEDENSDORF INTERNATIONAL
X-ORIGINAL-URL:https://friedensdorf.de
X-WR-CALDESC:Veranstaltungen für FRIEDENSDORF INTERNATIONAL
REFRESH-INTERVAL;VALUE=DURATION:PT1H
X-Robots-Tag:noindex
X-PUBLISHED-TTL:PT1H
BEGIN:VTIMEZONE
TZID:Europe/Berlin
BEGIN:DAYLIGHT
TZOFFSETFROM:+0100
TZOFFSETTO:+0200
TZNAME:CEST
DTSTART:20240331T010000
END:DAYLIGHT
BEGIN:STANDARD
TZOFFSETFROM:+0200
TZOFFSETTO:+0100
TZNAME:CET
DTSTART:20241027T010000
END:STANDARD
BEGIN:DAYLIGHT
TZOFFSETFROM:+0100
TZOFFSETTO:+0200
TZNAME:CEST
DTSTART:20250330T010000
END:DAYLIGHT
BEGIN:STANDARD
TZOFFSETFROM:+0200
TZOFFSETTO:+0100
TZNAME:CET
DTSTART:20251026T010000
END:STANDARD
BEGIN:DAYLIGHT
TZOFFSETFROM:+0100
TZOFFSETTO:+0200
TZNAME:CEST
DTSTART:20260329T010000
END:DAYLIGHT
BEGIN:STANDARD
TZOFFSETFROM:+0200
TZOFFSETTO:+0100
TZNAME:CET
DTSTART:20261025T010000
END:STANDARD
END:VTIMEZONE
BEGIN:VEVENT
DTSTART;TZID=Europe/Berlin:20250329T140000
DTEND;TZID=Europe/Berlin:20250329T170000
DTSTAMP:20260424T121019
CREATED:20241125T123943Z
LAST-MODIFIED:20241125T123943Z
UID:10000556-1743256800-1743267600@friedensdorf.de
SUMMARY:Kreative Eltern-Kind-Malerei
DESCRIPTION:In diesem Workshop können Eltern und Kinder ihrer Kreativität freien Lauf lassen. Die künstlerische Betätigung fördert Selbstvertrauen\, Vorstellungskraft und Kreativität von Jung und Alt. \nKinder sehen vieles\, was Erwachsene unter Umständen gar nicht mehr wahrnehmen. Aus diesem Grund macht die gemeinsame Beschäftigung mit Kunst zwischen Eltern und Kind auch so viel Freude. Genau hier möchte dieser Workshop ansetzen. Nach einer kurzen praktischen Einführung kann es auch schon losgehen: In freier Gestaltung erschaffen die großen und kleinen Teilnehmer:innen unter Anleitung Kunstwerke mit Pigmenten\, Sand\, Acryl- oder Aquarellfarben. Auch Collage- oder Drucktechniken können dabei eingesetzt werden. \nDurch die Arbeit mit verschiedenen Alltagsmaterialien sind der Neugier Ihres Kindes keine Grenzen gesetzt. Die fertigen Werke werden abschließend gemeinsam betrachtet\, um so die vielfältigen Möglichkeiten der Kunstgestaltung zu erforschen. Dabei entsteht somit nicht nur ein Resultat zum Verschenken oder für zu Hause\, sondern auch eine tolle Erinnerung an die gemeinsame Erstellung des kleinen Kunstwerkes. \nDas Material (Papiere\, verschiedene Farben\, Collage-Materialien etc.) ist in der Teilnahmegebühr inbegriffen. Selbstverständlich dürfen aber auch gerne eigene Materialien mitgebracht werden. \nBitte mitbringen: Schürze/Arbeitskittel. \nKursleitung: Doris Kook \nVeranstaltungsort: FI Oberhausen \nSamstag\, 29.03.2025 \n14:00 – 17:00 Uhr \n15\,- € (4 USTD) \nB 25043 E \nBitte wählen Sie diese Veranstaltungsnummer hier in unserem Anmeldeformular aus. Ohne Anmeldung ist eine Teilnahme leider nicht möglich.
URL:https://friedensdorf.de/kurs/kreative-eltern-kind-malerei-2/
LOCATION:Friedensdorf Oberhausen\, Rua Hiroshima 1\, Oberhausen\, NRW\, 46147\, Deutschland
ATTACH;FMTTYPE=image/webp:https://friedensdorf.de/wp-content/uploads/2024/11/Mini-Club-Homepage-31.webp
ORGANIZER;CN="Friedensdorf Bildungswerk":MAILTO:bildungswerk@friedensdorf.de
END:VEVENT
END:VCALENDAR