BEGIN:VCALENDAR
VERSION:2.0
PRODID:-//FRIEDENSDORF INTERNATIONAL - ECPv6.15.20//NONSGML v1.0//EN
CALSCALE:GREGORIAN
METHOD:PUBLISH
X-ORIGINAL-URL:https://friedensdorf.de
X-WR-CALDESC:Veranstaltungen für FRIEDENSDORF INTERNATIONAL
REFRESH-INTERVAL;VALUE=DURATION:PT1H
X-Robots-Tag:noindex
X-PUBLISHED-TTL:PT1H
BEGIN:VTIMEZONE
TZID:Europe/Berlin
BEGIN:DAYLIGHT
TZOFFSETFROM:+0100
TZOFFSETTO:+0200
TZNAME:CEST
DTSTART:20240331T010000
END:DAYLIGHT
BEGIN:STANDARD
TZOFFSETFROM:+0200
TZOFFSETTO:+0100
TZNAME:CET
DTSTART:20241027T010000
END:STANDARD
BEGIN:DAYLIGHT
TZOFFSETFROM:+0100
TZOFFSETTO:+0200
TZNAME:CEST
DTSTART:20250330T010000
END:DAYLIGHT
BEGIN:STANDARD
TZOFFSETFROM:+0200
TZOFFSETTO:+0100
TZNAME:CET
DTSTART:20251026T010000
END:STANDARD
BEGIN:DAYLIGHT
TZOFFSETFROM:+0100
TZOFFSETTO:+0200
TZNAME:CEST
DTSTART:20260329T010000
END:DAYLIGHT
BEGIN:STANDARD
TZOFFSETFROM:+0200
TZOFFSETTO:+0100
TZNAME:CET
DTSTART:20261025T010000
END:STANDARD
END:VTIMEZONE
BEGIN:VEVENT
DTSTART;TZID=Europe/Berlin:20250603T183000
DTEND;TZID=Europe/Berlin:20250603T200000
DTSTAMP:20260422T102426
CREATED:20241126T073150Z
LAST-MODIFIED:20241210T090752Z
UID:10000579-1748975400-1748980800@friedensdorf.de
SUMMARY:Djembe spielen: Zeit zum Trommeln
DESCRIPTION:Die Djembe ist ein traditionelles Musikinstrument mit einer langen Geschichte\, das seinen Ursprung bei den Malinke- und Bambara-Völkern in Westafrika hat. Dort war sie seit jeher Bestandteil des täglichen Dorflebens sowie von Festen und Ritualen und auch heute noch ist sie aus der Kultur Afrikas kaum wegzudenken. \nLassen Sie diese Energie auf sich abfärben und erlernen Sie die Grundlagen des afrikanischen Trommelspiels. Kursleiterin Heike Lehnhoff bietet einen leichten Zugang zu unterschiedlichen Anschlagstechniken und vermittelt einen Einblick in die Vielfältigkeit von Trommel-Rhythmen. \nTeilnehmer:innen haben die Möglichkeit\, die Trommeln des Bildungswerks zu nutzen oder eigene mitzubringen. \nKursleitung: Heike Lehnhoff \nVeranstaltungsort: FI Zentralstelle \nDienstags\, jeweils von 18:30 – 20:00 Uhr \nKursgebühr: 52\,- € (8x2USTD) \n03.06. – 22.07.2025 \nKursnummer: E 25003 S \nBitte wählen Sie diese Veranstaltungsnummer hier in unserem Anmeldeformular aus. Ohne Anmeldung ist eine Teilnahme leider nicht möglich.
URL:https://friedensdorf.de/kurs/djembe-spielen-zeit-zum-trommeln-2/
LOCATION:FI Zentralstelle\, Lanterstr. 21\, Dinslaken\, NRW\, 46539\, Deutschland
ATTACH;FMTTYPE=image/webp:https://friedensdorf.de/wp-content/uploads/2024/11/Mini-Club-Homepage-15.webp
ORGANIZER;CN="Friedensdorf Bildungswerk":MAILTO:bildungswerk@friedensdorf.de
END:VEVENT
END:VCALENDAR