BEGIN:VCALENDAR
VERSION:2.0
PRODID:-//FRIEDENSDORF INTERNATIONAL - ECPv6.15.20//NONSGML v1.0//EN
CALSCALE:GREGORIAN
METHOD:PUBLISH
X-ORIGINAL-URL:https://friedensdorf.de
X-WR-CALDESC:Veranstaltungen für FRIEDENSDORF INTERNATIONAL
REFRESH-INTERVAL;VALUE=DURATION:PT1H
X-Robots-Tag:noindex
X-PUBLISHED-TTL:PT1H
BEGIN:VTIMEZONE
TZID:Europe/Berlin
BEGIN:DAYLIGHT
TZOFFSETFROM:+0100
TZOFFSETTO:+0200
TZNAME:CEST
DTSTART:20240331T010000
END:DAYLIGHT
BEGIN:STANDARD
TZOFFSETFROM:+0200
TZOFFSETTO:+0100
TZNAME:CET
DTSTART:20241027T010000
END:STANDARD
BEGIN:DAYLIGHT
TZOFFSETFROM:+0100
TZOFFSETTO:+0200
TZNAME:CEST
DTSTART:20250330T010000
END:DAYLIGHT
BEGIN:STANDARD
TZOFFSETFROM:+0200
TZOFFSETTO:+0100
TZNAME:CET
DTSTART:20251026T010000
END:STANDARD
BEGIN:DAYLIGHT
TZOFFSETFROM:+0100
TZOFFSETTO:+0200
TZNAME:CEST
DTSTART:20260329T010000
END:DAYLIGHT
BEGIN:STANDARD
TZOFFSETFROM:+0200
TZOFFSETTO:+0100
TZNAME:CET
DTSTART:20261025T010000
END:STANDARD
END:VTIMEZONE
BEGIN:VEVENT
DTSTART;TZID=Europe/Berlin:20250913T100000
DTEND;TZID=Europe/Berlin:20250913T113000
DTSTAMP:20260420T140709
CREATED:20250715T095606Z
LAST-MODIFIED:20250826T112230Z
UID:10000676-1757757600-1757763000@friedensdorf.de
SUMMARY:Elternstart*NRW
DESCRIPTION:Vater-Kind-Kurs – Lass das mal den Papa machen \nIn diesem Kurs kannst du dir bewusst Zeit für dein Vatersein nehmen. Kinder lieben es\, die exklusive Aufmerksamkeit von ihrem Papa zu bekommen. Die offene Atmosphäre des Kurses entspricht den natürlichen Bedürfnissen nach Nähe zum Vater und Kontakt zu Gleichaltrigen. Du bist eingeladen\, zu einem lockeren Erfahrungsaustausch\, um Kompetenzen für die Entwicklung einer liebevollen Beziehung zwischen dir und deinem Kind zu unterstützen. \nDieses Angebot findet in Kooperation mit der FiB Familienbildungsstätte aus Köln statt. \nKursleitung: Stephan Rust (Sozialpädagoge) \nVeranstaltungsort: FiB e.V. Köln\, Waltherstr.49-51\, Haus 31\, 51069 Köln \nKurstermine: 5x Samstags\, 13.09. – 11.10.2025\, jeweils von 10:00 – 11:30 Uhr \nKursgebühr: Gebührenfrei (5×2 USTD) \nB 25052 S \nBitte wählen Sie diese Veranstaltungsnummer hier in unserem Anmeldeformular aus. Ohne Anmeldung ist eine Teilnahme leider nicht möglich.
URL:https://friedensdorf.de/kurs/elternstartnrw-9/
LOCATION:FiB Familienbildungsstätte Köln\, Waltherstr.49-51\, Haus 31\, Köln\, NRW\, 51069
ATTACH;FMTTYPE=image/png:https://friedensdorf.de/wp-content/uploads/2025/07/Homepage-Bilder-fuer-Kursangebote-6.png
ORGANIZER;CN="Friedensdorf Bildungswerk":MAILTO:bildungswerk@friedensdorf.de
END:VEVENT
BEGIN:VEVENT
DTSTART;TZID=Europe/Berlin:20250913T100000
DTEND;TZID=Europe/Berlin:20250913T153000
DTSTAMP:20260420T140709
CREATED:20241126T090619Z
LAST-MODIFIED:20250617T111951Z
UID:10000600-1757757600-1757777400@friedensdorf.de
SUMMARY:Präventionskurs: Zur Ruhe kommen und Stress abbauen
DESCRIPTION:Autogenes Training Kompakt \nDer Vorteil eines Kompakt-Kurses ist\, dass Sie an einem Wochenende eine Entspannungstechnik erlernen können. Darüber hinaus werden weitere Achtsamkeits- und Entspannungsübungen eingeübt. Im Kompaktkurs kann ein bereichernder Austausch in einem sicheren Raum stattfinden. Sie lernen\, wie Sie sich mithilfe der Kraft Ihrer Gedanken innerhalb weniger Minuten in einen Zustand tiefer Entspannung und angenehmer Ruhe versetzen können. Zusätzlich lernen Sie an diesem Wochenende weitere Achtsamkeitsübungen kennen\, die Sie sofort in Ihren Alltag integrieren können. Es erwartet Sie ein Entspannungswochenende voll Ruhe und Erholung. \nAutogenes Training ist eine der bekanntesten Entspannungsmethoden unserer Zeit. Es beruht auf medizinisch-physiologischen Erkenntnissen\, die wissenschaftlich nachprüfbar sind. Im Grundkurs  werden die Leitsätze erlernt\, die das vegetatives Nervensystem positiv beeinflussen können. \nMithilfe der eigenen Vorstellungskraft wird das vegetative Nervensystem beeinflusst und ein tiefer Entspannungszustand kann erreicht werden. Das Autogene Training ist ein Übungsverfahren\, eine Methode der „konzentrativen Selbstentspannung“. \nZudem erlernen Sie weitere Möglichkeiten zur Entspannung\, wie z.B. Fantasiereisen\, Meditation\, PMR. \nDas Autogene Training hat sich bei Alltagsstress\, Nervosität\, Einschlafschwierigkeiten/ Schlafstörungen\, Verspannungen und Spannungskopfschmerzen\, Verdauungsstörungen\, Verbesserung des Körpergefühls\, Bluthochdruck\, Gereiztheit\, Zähneknirschen u.v.m. bewährt. AT setzt eine gewisse Übungsbereitschaft voraus. \nInhalt des Kurses: \n\nGrundformeln des Autogenen Trainings\nAchtsamkeitsübungen (nach MBSR)\nAtemübungen\nGrundlegende Infos zum Thema Stress\, der Wirkungsweise von AT\nGanz viel Zeit für Ruhe und Entspannung\n\nZertifizierte Qualität \nDer Kurs ist nach §20 SGB V zertifiziert und mit dem Prüfsiegel Deutscher Standard Prävention versehen. Eine Erstattung bis zu 80% von den Krankenkassen ist möglich. Bitte erkundigen Sie sich bei Ihrer Krankenkasse unter der Kurs-ID: KU-ST-7BY5TS. \nAlle TeilnehmerInnen erhalten digital ein ausführliches Skript. \nDas primärpräventive Kursangebot richtet sich an körperlich und geistig gesunde Menschen. Die Teilnahme an allen Kursen erfolgt auf eigene Verantwortung und ersetzt keine ärztliche oder therapeutische Behandlung. \nVeranstaltungsort: FI Zentralstelle \nKursleitung: Anne Ploeger \nKurstermine: Samstag & Sonntag\, 13. & 14.09.2025 jeweils von 10:00 – 15:30 Uhr \nKursgebühr: 84\,- € (2×6 USTD) \nKursnummer: G 25022 S \nBitte wählen Sie diese Veranstaltungsnummer hier in unserem Anmeldeformular aus. Ohne Anmeldung ist eine Teilnahme leider nicht möglich.
URL:https://friedensdorf.de/kurs/praeventionskurs-zur-ruhe-kommen-und-stress-abbauen/
LOCATION:FI Zentralstelle\, Lanterstr. 21\, Dinslaken\, NRW\, 46539\, Deutschland
ATTACH;FMTTYPE=image/webp:https://friedensdorf.de/wp-content/uploads/2024/11/Mini-Club-Homepage-64.webp
ORGANIZER;CN="Friedensdorf Bildungswerk":MAILTO:bildungswerk@friedensdorf.de
END:VEVENT
END:VCALENDAR